BEGIN:VCALENDAR
VERSION:2.0
PRODID:-//Stacy Gabel Music - ECPv6.15.20//NONSGML v1.0//EN
CALSCALE:GREGORIAN
METHOD:PUBLISH
X-WR-CALNAME:Stacy Gabel Music
X-ORIGINAL-URL:https://stacygabel.com
X-WR-CALDESC:Events for Stacy Gabel Music
REFRESH-INTERVAL;VALUE=DURATION:PT1H
X-Robots-Tag:noindex
X-PUBLISHED-TTL:PT1H
BEGIN:VTIMEZONE
TZID:UTC
BEGIN:STANDARD
TZOFFSETFROM:+0000
TZOFFSETTO:+0000
TZNAME:UTC
DTSTART:20240101T000000
END:STANDARD
END:VTIMEZONE
BEGIN:VEVENT
DTSTART;TZID=UTC:20250118T170000
DTEND;TZID=UTC:20250118T190000
DTSTAMP:20260423T032908
CREATED:20241230T042223Z
LAST-MODIFIED:20241230T042223Z
UID:6018-1737219600-1737226800@stacygabel.com
SUMMARY:Stacy Gabel Music & Lucky Leprechaun Vineyards & Winery at Everlong Records - Local Band Night in Hamburg\, PA
DESCRIPTION:Join me for Local Band Night at Everlong Records in Hamburg\, PA \nI’ll be playing Music from 5-7p \nLucky Leprechaun Vineyard & Winery will be on site offering free wine tasting and wine to purchase! \nCome check out the Vinyl\, CDs\, DVDs\, Cassettes\, VHS Movies and More!
URL:https://stacygabel.com/event/stacy-gabel-music-lucky-leprechaun-vineyards-winery-at-everlong-records-local-band-night-in-hamburg-pa/
LOCATION:Everlong Records\, 805 State Street\, Hamburg\, PA\, 19526
CATEGORIES:Performances
ATTACH;FMTTYPE=image/jpeg:https://stacygabel.com/wp-content/uploads/2024/12/Everlong-Records-Band-Night-.jpg
END:VEVENT
END:VCALENDAR