BEGIN:VCALENDAR
VERSION:2.0
PRODID:-//Stacy Gabel Music - ECPv6.15.20//NONSGML v1.0//EN
CALSCALE:GREGORIAN
METHOD:PUBLISH
X-ORIGINAL-URL:https://stacygabel.com
X-WR-CALDESC:Events for Stacy Gabel Music
REFRESH-INTERVAL;VALUE=DURATION:PT1H
X-Robots-Tag:noindex
X-PUBLISHED-TTL:PT1H
BEGIN:VTIMEZONE
TZID:UTC
BEGIN:STANDARD
TZOFFSETFROM:+0000
TZOFFSETTO:+0000
TZNAME:UTC
DTSTART:20240101T000000
END:STANDARD
END:VTIMEZONE
BEGIN:VEVENT
DTSTART;VALUE=DATE:20251126
DTEND;VALUE=DATE:20251205
DTSTAMP:20260420T184319
CREATED:20251122T170822Z
LAST-MODIFIED:20251122T170822Z
UID:6497-1764115200-1764892799@stacygabel.com
SUMMARY:🌟 Stacy Gabel Presents: “Merry Christmas My Friends” Music Video Screening at ArtsQuest's Frank Banko Theatre – in the Christmas City Bethlehem\, PA
DESCRIPTION:BIG SCREEN NEWS! \nThe Official Music Video for “Merry Christmas My Friends” by Stacy Gabel will be shown on the BIG SCREEN in the Christmas City of Bethlehem\, Pennsylvania \nArtsQuest’s Frank Banko theatre will be showing the locally produced “Saint Nick of Bethlehem” “Saint Nick of Bethlehem”  with Daniel Roebuck (star of Lost\, Criminal Minds + more) Starting Nov 26th \n“Merry Christmas My Friends” was filmed locally by Alan Sylvestre\, Recorded locally by Anthony Newett\, with young singers from LOCAL singing groups (including Bel Canto\, Parkland and East Penn Schools) \nThis hometown collaboration brings the visuals and music to life in a cinematic experience. \nCan’t attend in person?  You can also watch the full video on YouTube\, Download and Stream the song HERE \n 
URL:https://stacygabel.com/event/%f0%9f%8c%9f-stacy-gabel-presents-merry-christmas-my-friends-music-video-screening-at-artsquests-frank-banko-theatre-in-the-christmas-city-bethlehem-pa/
LOCATION:ArtsQuest\, 101 Founders Way\, Bethlehem\, PA\, 18015\, United States
CATEGORIES:Performances
ATTACH;FMTTYPE=image/jpeg:https://stacygabel.com/wp-content/uploads/2025/11/Website-FB-Event-ArtsQuest-no-before-all-films.jpg
END:VEVENT
END:VCALENDAR