BEGIN:VCALENDAR
VERSION:2.0
PRODID:-//Stacy Gabel Music - ECPv6.15.20//NONSGML v1.0//EN
CALSCALE:GREGORIAN
METHOD:PUBLISH
X-WR-CALNAME:Stacy Gabel Music
X-ORIGINAL-URL:https://stacygabel.com
X-WR-CALDESC:Events for Stacy Gabel Music
REFRESH-INTERVAL;VALUE=DURATION:PT1H
X-Robots-Tag:noindex
X-PUBLISHED-TTL:PT1H
BEGIN:VTIMEZONE
TZID:UTC
BEGIN:STANDARD
TZOFFSETFROM:+0000
TZOFFSETTO:+0000
TZNAME:UTC
DTSTART:20240101T000000
END:STANDARD
END:VTIMEZONE
BEGIN:VEVENT
DTSTART;TZID=UTC:20250713T180000
DTEND;TZID=UTC:20250713T200000
DTSTAMP:20260421T094721
CREATED:20250320T065254Z
LAST-MODIFIED:20250320T065430Z
UID:6109-1752429600-1752436800@stacygabel.com
SUMMARY:The Stacy Gabel Band at Emmaus Community Park - Emmaus\, PA
DESCRIPTION:Come out for an evening of fun beachy music with The Stacy Gabel Band! \nWear your best flower shirt and Lei – let’s have some fun!\nWe’re so excited to be performing as part of the Emmaus Summer Concert Series! \nBring the entire family and get ready to sing along and enjoy some of your favorite summer songs!\nFeel free to bring a beach chair along to sit out in the grass or sit in the large covered area \nThere is a concession stand right behind the stage with lots of food for purchase \nFuture Summer full band shows: \n\n8/6 – Beach Day at Musikfest (Plaza Tropical Stage)\n\nFun Summer Beach Songs by Jimmy Buffett\, Sheryl Crow\, Beach Boys\, Zac Brown Band\, Jason Mraz + many more favorites and featuring Stacy Gabel original songs “One Perfect Summer”\, “Great Escape” and more! \nFor more info or booking go to:\nwww.StacyGabel.com/Band\ninfo@StacyGabel.com \n**Download/Stream “ONE PERFECT SUMMER” HERE: orcd.co/oneperfectsummer \n***SUBSCRIBE TO MY YOUTUBE CHANNEL\n@StacyGabel to see the Official Music Videos \n  \n 
URL:https://stacygabel.com/event/the-stacy-gabel-band-at-emmaus-community-park-emmaus-pa/
LOCATION:Emmaus Community Park\, 1330 Chestnut St\, Emmaus\, PA\, 18049\, United States
CATEGORIES:Performances
ATTACH;FMTTYPE=image/jpeg:https://stacygabel.com/wp-content/uploads/2025/03/Stacy-Gabel-Band-Emmaus-3.jpg
END:VEVENT
END:VCALENDAR