BEGIN:VCALENDAR
VERSION:2.0
PRODID:-//Stacy Gabel Music - ECPv6.15.20//NONSGML v1.0//EN
CALSCALE:GREGORIAN
METHOD:PUBLISH
X-ORIGINAL-URL:https://stacygabel.com
X-WR-CALDESC:Events for Stacy Gabel Music
REFRESH-INTERVAL;VALUE=DURATION:PT1H
X-Robots-Tag:noindex
X-PUBLISHED-TTL:PT1H
BEGIN:VTIMEZONE
TZID:UTC
BEGIN:STANDARD
TZOFFSETFROM:+0000
TZOFFSETTO:+0000
TZNAME:UTC
DTSTART:20240101T000000
END:STANDARD
END:VTIMEZONE
BEGIN:VEVENT
DTSTART;TZID=UTC:20250717T170000
DTEND;TZID=UTC:20250717T193000
DTSTAMP:20260420T022709
CREATED:20250624T161913Z
LAST-MODIFIED:20250624T161913Z
UID:6191-1752771600-1752780600@stacygabel.com
SUMMARY:Stacy Gabel Music at Clover Hill Vineyards & Winery – Breinigsville\, PA July 17 @ 5:00 pm - 7:30 pm
DESCRIPTION:Join me for Family Night at the Winery in Breinigsville \nFamilies and friends of all ages are invited to enjoy a summer evening by the vineyard.\nThere will be a food truck (The Brick) and live music from 5-7:30 \nRain or Shine \nAdditional performances this summer at Clover Hill: \n8/14 \nCome out for a relaxing evening of Wine\, Music and fun!
URL:https://stacygabel.com/event/stacy-gabel-music-at-clover-hill-vineyards-winery-breinigsville-pa-july-17-500-pm-730-pm/
LOCATION:Clover Hill Vineyards & Winery\, 9850 Newtown Rd\, Breinigsville\, PA\, 18031\, United States
CATEGORIES:Performances
ATTACH;FMTTYPE=image/jpeg:https://stacygabel.com/wp-content/uploads/2025/05/Clover-Hill-Winery-FB-Event.jpg
END:VEVENT
END:VCALENDAR