BEGIN:VCALENDAR
VERSION:2.0
PRODID:-//Stacy Gabel Music - ECPv6.15.20//NONSGML v1.0//EN
CALSCALE:GREGORIAN
METHOD:PUBLISH
X-ORIGINAL-URL:https://stacygabel.com
X-WR-CALDESC:Events for Stacy Gabel Music
REFRESH-INTERVAL;VALUE=DURATION:PT1H
X-Robots-Tag:noindex
X-PUBLISHED-TTL:PT1H
BEGIN:VTIMEZONE
TZID:UTC
BEGIN:STANDARD
TZOFFSETFROM:+0000
TZOFFSETTO:+0000
TZNAME:UTC
DTSTART:20230101T000000
END:STANDARD
END:VTIMEZONE
BEGIN:VEVENT
DTSTART;TZID=UTC:20240904T170000
DTEND;TZID=UTC:20240904T200000
DTSTAMP:20260424T035233
CREATED:20240826T021145Z
LAST-MODIFIED:20240826T021145Z
UID:5921-1725469200-1725480000@stacygabel.com
SUMMARY:🎶🍷 9/4  Stacy Gabel Music at Madeline’s Fine Dining Restaurant – Fogelsville\, PA
DESCRIPTION:Join me on the covered and heated patio at Madeline’s in Fogelsville\, PA \nCasual Fine Dining with a tropical oasis atmosphere \nCome out for an evening of entertainment and fun!
URL:https://stacygabel.com/event/%f0%9f%8e%b6%f0%9f%8d%b7-9-4-stacy-gabel-music-at-madelines-fine-dining-restaurant-fogelsville-pa/
LOCATION:Madeline’s\, 1250 Turnstone Dr\, Fogelsville\, PA\, 18051\, United States
CATEGORIES:Performances
ATTACH;FMTTYPE=image/jpeg:https://stacygabel.com/wp-content/uploads/2024/08/9-4.jpg
END:VEVENT
END:VCALENDAR