BEGIN:VCALENDAR
VERSION:2.0
PRODID:-//Stacy Gabel Music - ECPv6.15.20//NONSGML v1.0//EN
CALSCALE:GREGORIAN
METHOD:PUBLISH
X-WR-CALNAME:Stacy Gabel Music
X-ORIGINAL-URL:https://stacygabel.com
X-WR-CALDESC:Events for Stacy Gabel Music
REFRESH-INTERVAL;VALUE=DURATION:PT1H
X-Robots-Tag:noindex
X-PUBLISHED-TTL:PT1H
BEGIN:VTIMEZONE
TZID:UTC
BEGIN:STANDARD
TZOFFSETFROM:+0000
TZOFFSETTO:+0000
TZNAME:UTC
DTSTART:20230101T000000
END:STANDARD
END:VTIMEZONE
BEGIN:VEVENT
DTSTART;VALUE=DATE:20240912
DTEND;VALUE=DATE:20240916
DTSTAMP:20260424T164009
CREATED:20240712T153704Z
LAST-MODIFIED:20240826T022843Z
UID:5842-1726099200-1726444799@stacygabel.com
SUMMARY:🎶🏝️ "New Summer Music Release Party" in the UK  9/12 - 9/15 - ENGLAND TOUR
DESCRIPTION:ENGLAND/LONDON FRIENDS!!!!!  And Vacationers! \nCome out to my release party in the UNITED KINGDOM!\nPre-Save + Subscribe to YouTube to hear the new song first PRE-SAVE HERE \nCome out to hear my newest song LIVE and IN PERSON! \n9/12-9/15 Venues are TBD (venues are being confirmed and finalized) \n9/12 – TBD\n9/13 – Emsworth Music Club\n9/14 – The George Inn\n9/15 – The Jolly Sailor
URL:https://stacygabel.com/event/%f0%9f%8e%b6%f0%9f%8f%9d%ef%b8%8f-new-summer-music-release-party-in-the-uk-9-12-9-15-england-tour/
LOCATION:PA
CATEGORIES:Performances
ATTACH;FMTTYPE=image/jpeg:https://stacygabel.com/wp-content/uploads/2024/07/FINAL.jpg
END:VEVENT
END:VCALENDAR