BEGIN:VCALENDAR
VERSION:2.0
PRODID:-//Stacy Gabel Music - ECPv6.15.20//NONSGML v1.0//EN
CALSCALE:GREGORIAN
METHOD:PUBLISH
X-ORIGINAL-URL:https://stacygabel.com
X-WR-CALDESC:Events for Stacy Gabel Music
REFRESH-INTERVAL;VALUE=DURATION:PT1H
X-Robots-Tag:noindex
X-PUBLISHED-TTL:PT1H
BEGIN:VTIMEZONE
TZID:UTC
BEGIN:STANDARD
TZOFFSETFROM:+0000
TZOFFSETTO:+0000
TZNAME:UTC
DTSTART:20240101T000000
END:STANDARD
END:VTIMEZONE
BEGIN:VEVENT
DTSTART;VALUE=DATE:20250802
DTEND;VALUE=DATE:20250811
DTSTAMP:20260420T010654
CREATED:20250418T185125Z
LAST-MODIFIED:20250731T225324Z
UID:6138-1754092800-1754870399@stacygabel.com
SUMMARY:Musikfest - Stacy Gabel Acoustic Solo + Band + A Touch of Class - Multiple Shows!
DESCRIPTION:I’m Playing MUSIKFEST!  The LARGEST Non-Gated Music Festival in the US! \nMusikfest Performance Dates: \nMonday 8/4  A Touch of Class (Jazzy Pop Band) – 7pm on Liederplatz Stage\nWednesday 8/6  The Stacy Gabel Band – 4pm at Plaza Tropical Stage for Beach Day\nThursday 8/7  Stacy Solo Acoustic – 6pm at Lyrikplatz Stage \nMiss Stacy’s Kids’ Show:  Saturdays 8/2 & 8/9  Shows at 1:30 & 3:00 \n 
URL:https://stacygabel.com/event/musikfest-stacy-gabel-acoustic-solo-band-a-touch-of-class-dates/
LOCATION:ArtsQuest\, 101 Founders Way\, Bethlehem\, PA\, 18015\, United States
CATEGORIES:Performances
ATTACH;FMTTYPE=image/jpeg:https://stacygabel.com/wp-content/uploads/2025/04/Musikfest-2025.jpg
END:VEVENT
BEGIN:VEVENT
DTSTART;TZID=UTC:20250804T190000
DTEND;TZID=UTC:20250804T203000
DTSTAMP:20260420T010654
CREATED:20250731T230424Z
LAST-MODIFIED:20250731T230813Z
UID:6245-1754334000-1754339400@stacygabel.com
SUMMARY:🎶 Stacy Gabel: A Touch of Class (Jazzy Pop Band) at Musikfest 8/4– Bethlehem\, PA
DESCRIPTION:Stacy Gabel:\nA Touch of Class\nThis versatile band seamlessly provides exceptional support to the solo artist\, Stacy Gabel\, combining original music with jazzy pop covers\, creating a classy\, yet engaging show. Past venues include: Musikfest at Hotel Bethlehem\, Ludwig’s Oyster Bar\, Country Clubs and more!\nLiederplatz Stage 7-8:30p – Bethlehem\, PA\nContact: Booking@StacyGabel.com\nDOWNLOAD THE MUSIKFEST APP today and Stacy Gabel: A Touch of Class to your schedule: https://www.musikfest.org/app/\nGo to <Line up and Schedule>\nLook for Stacy Gabel: A Touch of Class (Jazzy Pop Band)\nalso add Stacy Gabel Solo Acoustic\, The Stacy Gabel Band\, and Miss Stacy’s Kids’ shows (fun for all ages)
URL:https://stacygabel.com/event/%f0%9f%8e%b6-stacy-gabel-a-touch-of-class-jazzy-pop-band-at-musikfest-8-4-bethlehem-pa/
LOCATION:Musikfest\, 101 Founders Way\, Bethlehem\, PA\, 18015\, United States
CATEGORIES:Performances
ATTACH;FMTTYPE=image/jpeg:https://stacygabel.com/wp-content/uploads/2025/07/A-Touch-of-Class-FB.jpg
END:VEVENT
END:VCALENDAR