BEGIN:VCALENDAR
VERSION:2.0
PRODID:-//Stacy Gabel Music - ECPv6.15.20//NONSGML v1.0//EN
CALSCALE:GREGORIAN
METHOD:PUBLISH
X-WR-CALNAME:Stacy Gabel Music
X-ORIGINAL-URL:https://stacygabel.com
X-WR-CALDESC:Events for Stacy Gabel Music
REFRESH-INTERVAL;VALUE=DURATION:PT1H
X-Robots-Tag:noindex
X-PUBLISHED-TTL:PT1H
BEGIN:VTIMEZONE
TZID:UTC
BEGIN:STANDARD
TZOFFSETFROM:+0000
TZOFFSETTO:+0000
TZNAME:UTC
DTSTART:20230101T000000
END:STANDARD
END:VTIMEZONE
BEGIN:VEVENT
DTSTART;TZID=UTC:20240805T150000
DTEND;TZID=UTC:20240809T173000
DTSTAMP:20260421T024215
CREATED:20240412T132940Z
LAST-MODIFIED:20240703T174614Z
UID:5656-1722870000-1723224600@stacygabel.com
SUMMARY:8/5 + 8/7 + 8/9 🎶 Stacy Gabel Music Solo & Band at Musikfest Bethlehem - PA
DESCRIPTION:8/5 Stacy Gabel Solo on Main Street Stage 3-4p \n8/7 The Stacy Gabel Band at Plaza Tropical Stage 4-5:30p \n8/9 Stacy Gabel Solo at Martin Guitar’s Lagerplatz Stage 6-6:30p
URL:https://stacygabel.com/event/8-5-8-7-%f0%9f%8e%b6-stacy-gabel-music-solo-band-at-musikfest-bethlehem-pa/
LOCATION:Musikfest\, 101 Founders Way\, Bethlehem\, PA\, 18015\, United States
CATEGORIES:Performances
ATTACH;FMTTYPE=image/jpeg:https://stacygabel.com/wp-content/uploads/2024/04/Musikfest-3-gigs.jpg
END:VEVENT
END:VCALENDAR