BEGIN:VCALENDAR
VERSION:2.0
PRODID:-//Stacy Gabel Music - ECPv6.15.20//NONSGML v1.0//EN
CALSCALE:GREGORIAN
METHOD:PUBLISH
X-WR-CALNAME:Stacy Gabel Music
X-ORIGINAL-URL:https://stacygabel.com
X-WR-CALDESC:Events for Stacy Gabel Music
REFRESH-INTERVAL;VALUE=DURATION:PT1H
X-Robots-Tag:noindex
X-PUBLISHED-TTL:PT1H
BEGIN:VTIMEZONE
TZID:UTC
BEGIN:STANDARD
TZOFFSETFROM:+0000
TZOFFSETTO:+0000
TZNAME:UTC
DTSTART:20230101T000000
END:STANDARD
END:VTIMEZONE
BEGIN:VEVENT
DTSTART;TZID=UTC:20241217T170000
DTEND;TZID=UTC:20241217T200000
DTSTAMP:20260422T095705
CREATED:20241122T213808Z
LAST-MODIFIED:20241122T213808Z
UID:6009-1734454800-1734465600@stacygabel.com
SUMMARY:Holiday Music with Stacy Gabel at the Lehigh Valley Zoo Winter Lights Spectacular
DESCRIPTION:Come out for some winter holiday fun at the Lehigh Valley Zoo! \nI’ll be singing and entertaining to spread some holiday cheer with your favorite holiday songs including Stacy’s newest Christmas songs\, “Merry Christmas My Friends” and “Just Ain’t Christmas” \n2 DATES – 12/17 & 12/22 \nOver 1.2 million lights at the Lehigh Valley’s Original Holiday Tradition! \n  \n 
URL:https://stacygabel.com/event/holiday-music-with-stacy-gabel-at-the-lehigh-valley-zoo-winter-lights-spectacular/
LOCATION:Lehigh Valley Zoo\, 5150 Game Preserve Rd\, Schnecksville\, PA\, 18078\, United States
CATEGORIES:Performances
ATTACH;FMTTYPE=image/jpeg:https://stacygabel.com/wp-content/uploads/2024/11/LV-Zoo-Holiday-Music.jpg
END:VEVENT
BEGIN:VEVENT
DTSTART;TZID=UTC:20241222T170000
DTEND;TZID=UTC:20241222T200000
DTSTAMP:20260422T095705
CREATED:20241122T215047Z
LAST-MODIFIED:20241122T220111Z
UID:6012-1734886800-1734897600@stacygabel.com
SUMMARY:Holiday Music with Stacy Gabel at the Lehigh Valley Zoo Winter Lights Spectacular
DESCRIPTION:Come out for some winter holiday fun at the Lehigh Valley Zoo! \nI’ll be singing and entertaining to spread some holiday cheer with your favorite holiday songs including Stacy’s newest Christmas songs\, “Merry Christmas My Friends” and “Just Ain’t Christmas” \n2 DATES – 12/17 & 12/22 \nOver 1.2 million lights at the Lehigh Valley’s Original Holiday Tradition! \n  \n 
URL:https://stacygabel.com/event/holiday-music-with-stacy-gabel-at-the-lehigh-valley-zoo-winter-lights-spectacular-2/
LOCATION:Lehigh Valley Zoo\, 5150 Game Preserve Rd\, Schnecksville\, PA\, 18078\, United States
CATEGORIES:Performances
ATTACH;FMTTYPE=image/jpeg:https://stacygabel.com/wp-content/uploads/2024/11/LV-Zoo-Holiday-Music.jpg
END:VEVENT
END:VCALENDAR