BEGIN:VCALENDAR
VERSION:2.0
PRODID:-//Stacy Gabel Music - ECPv6.15.20//NONSGML v1.0//EN
CALSCALE:GREGORIAN
METHOD:PUBLISH
X-WR-CALNAME:Stacy Gabel Music
X-ORIGINAL-URL:https://stacygabel.com
X-WR-CALDESC:Events for Stacy Gabel Music
REFRESH-INTERVAL;VALUE=DURATION:PT1H
X-Robots-Tag:noindex
X-PUBLISHED-TTL:PT1H
BEGIN:VTIMEZONE
TZID:UTC
BEGIN:STANDARD
TZOFFSETFROM:+0000
TZOFFSETTO:+0000
TZNAME:UTC
DTSTART:20240101T000000
END:STANDARD
END:VTIMEZONE
BEGIN:VEVENT
DTSTART;TZID=UTC:20250828T180000
DTEND;TZID=UTC:20250828T210000
DTSTAMP:20260420T010541
CREATED:20250715T033919Z
LAST-MODIFIED:20250822T132327Z
UID:6228-1756404000-1756414800@stacygabel.com
SUMMARY:🎶 8/28 Stacy Gabel Music Solo Acoustic on the Harvest Patio at the Great Allentown Fair – PA
DESCRIPTION:Harvest Patio\n2 Shows on Saturday 6:00 & 8:00 – Stacy Gabel Acoustic Solo – fun for all ages
URL:https://stacygabel.com/event/%f0%9f%8e%b6-8-31-stacy-gabel-music-solo-acoustic-on-the-harvest-patio-at-the-great-allentown-fair-pa-2/
LOCATION:The Great Allentown Fair\, 302 N 17th St.\, Allentown\, PA\, 18104\, United States
CATEGORIES:Performances
ATTACH;FMTTYPE=image/jpeg:https://stacygabel.com/wp-content/uploads/2025/07/2025-Acoustic-1.jpg
END:VEVENT
END:VCALENDAR