BEGIN:VCALENDAR
VERSION:2.0
PRODID:-//Stacy Gabel Music - ECPv6.15.20//NONSGML v1.0//EN
CALSCALE:GREGORIAN
METHOD:PUBLISH
X-WR-CALNAME:Stacy Gabel Music
X-ORIGINAL-URL:https://stacygabel.com
X-WR-CALDESC:Events for Stacy Gabel Music
REFRESH-INTERVAL;VALUE=DURATION:PT1H
X-Robots-Tag:noindex
X-PUBLISHED-TTL:PT1H
BEGIN:VTIMEZONE
TZID:UTC
BEGIN:STANDARD
TZOFFSETFROM:+0000
TZOFFSETTO:+0000
TZNAME:UTC
DTSTART:20240101T000000
END:STANDARD
END:VTIMEZONE
BEGIN:VEVENT
DTSTART;TZID=UTC:20250807T180000
DTEND;TZID=UTC:20250807T184500
DTSTAMP:20260420T005442
CREATED:20250731T233338Z
LAST-MODIFIED:20250731T233644Z
UID:6252-1754589600-1754592300@stacygabel.com
SUMMARY:Stacy Gabel Acoustic Solo at Musikfest on 8/7 in Bethlehem\, PA
DESCRIPTION:Join Stacy Gabel for an evening of original music\, stories and connection on the intimate Lyrikplatz stage. \nStacy Gabel is a multi-award-winning singer-songwriter and vibrant live performer known for her catchy\, feel-good original music and natural connection with audiences. With a background in musical theatre and television\, she brings a polished yet playful energy to the stage—seamlessly blending pop-folk melodies with clever\, relatable lyrics. \nBefore launching her music career\, Stacy worked behind the scenes at Nickelodeon and MTV and later appeared on screen in shows like Charmed\, General Hospital\, and national commercials. Today\, she performs across the U.S. and U.K.\, delighting crowds at theaters\, festivals\, and intimate venues alike. \nHer acclaimed Straight to Voicemail EP features fan-favorite singles like “Great Escape” and “Sunny Days\,” which have earned international recognition\, been featured in film\, and inspired her recent tour abroad. She’s also affectionately known as the “Balloon Girl” for her standout performances at major hot air balloon festivals—earning her a spotlight in the Balloon Federation of America. \nStacy is one of the newest members of the Recording Academy!  She will be celebrating at Musikfest at the 10 day festival!  Join her at the ‘Fest!
URL:https://stacygabel.com/event/stacy-gabel-acoustic-solo-at-musikfest-on-8-7-in-bethlehem-pa/
LOCATION:Musikfest\, 101 Founders Way\, Bethlehem\, PA\, 18015\, United States
CATEGORIES:Performances
ATTACH;FMTTYPE=image/jpeg:https://stacygabel.com/wp-content/uploads/2025/07/Musikfest-2025.jpg
END:VEVENT
END:VCALENDAR