BEGIN:VCALENDAR
VERSION:2.0
PRODID:-//Stacy Gabel Music - ECPv6.15.20//NONSGML v1.0//EN
CALSCALE:GREGORIAN
METHOD:PUBLISH
X-WR-CALNAME:Stacy Gabel Music
X-ORIGINAL-URL:https://stacygabel.com
X-WR-CALDESC:Events for Stacy Gabel Music
REFRESH-INTERVAL;VALUE=DURATION:PT1H
X-Robots-Tag:noindex
X-PUBLISHED-TTL:PT1H
BEGIN:VTIMEZONE
TZID:UTC
BEGIN:STANDARD
TZOFFSETFROM:+0000
TZOFFSETTO:+0000
TZNAME:UTC
DTSTART:20230101T000000
END:STANDARD
END:VTIMEZONE
BEGIN:VEVENT
DTSTART;TZID=UTC:20240604T173000
DTEND;TZID=UTC:20240604T183000
DTSTAMP:20260424T115439
CREATED:20240523T030821Z
LAST-MODIFIED:20240523T030821Z
UID:5719-1717522200-1717525800@stacygabel.com
SUMMARY:6/4 ⚾🎵 Stacy Gabel Music at Iron Pigs Baseball Pre-Game Show – Allentown\, PA
DESCRIPTION:Join me at Coca-Cola Park for the Iron Pigs Pre-Show in Allentown\, PA for PRIDE NIGHT! \nI’ll be playing at 5:30am \nGame starts at 11:00am – Iron Pigs VS Buffalo Bisons
URL:https://stacygabel.com/event/6-4-%e2%9a%be%f0%9f%8e%b5-stacy-gabel-music-at-iron-pigs-baseball-pre-game-show-allentown-pa/
LOCATION:Coca Cola Park\, 1050 Iron Pigs Way\, Allentown\, PA\, 18109\, United States
CATEGORIES:Performances
ATTACH;FMTTYPE=image/jpeg:https://stacygabel.com/wp-content/uploads/2024/05/June-4-Game.jpg
END:VEVENT
END:VCALENDAR