BEGIN:VCALENDAR
VERSION:2.0
PRODID:-//Stacy Gabel Music - ECPv6.15.20//NONSGML v1.0//EN
CALSCALE:GREGORIAN
METHOD:PUBLISH
X-ORIGINAL-URL:https://stacygabel.com
X-WR-CALDESC:Events for Stacy Gabel Music
REFRESH-INTERVAL;VALUE=DURATION:PT1H
X-Robots-Tag:noindex
X-PUBLISHED-TTL:PT1H
BEGIN:VTIMEZONE
TZID:UTC
BEGIN:STANDARD
TZOFFSETFROM:+0000
TZOFFSETTO:+0000
TZNAME:UTC
DTSTART:20230101T000000
END:STANDARD
END:VTIMEZONE
BEGIN:VEVENT
DTSTART;TZID=UTC:20240822T140000
DTEND;TZID=UTC:20240822T160000
DTSTAMP:20260424T052224
CREATED:20240703T192025Z
LAST-MODIFIED:20240703T192025Z
UID:5824-1724335200-1724342400@stacygabel.com
SUMMARY:🎶 8/22 Stacy Gabel Music at the West End Fair (Miss Stacy Kids show + Solo Acoustic)
DESCRIPTION:2 Shows at the West End Fair in Gilbert\, PA \n2:00 Miss Stacy’s Kids’ Show – “At the Zoo-oo-oo” with Music\, Movement and Stories for the younger audience\n3:15 Stacy Gabel Acoustic Solo – fun for all ages
URL:https://stacygabel.com/event/stacy-gabel-music-at-the-west-end-fair-miss-stacy-kids-show-solo-acoustic/
LOCATION:West End Fair\, 570 Fairground Rd\, Gilbert\, PA\, 18331\, United States
CATEGORIES:Performances
ATTACH;FMTTYPE=image/jpeg:https://stacygabel.com/wp-content/uploads/2024/07/West-End-Fair.jpg
END:VEVENT
END:VCALENDAR