BEGIN:VCALENDAR
VERSION:2.0
PRODID:-//Stacy Gabel Music - ECPv6.15.20//NONSGML v1.0//EN
CALSCALE:GREGORIAN
METHOD:PUBLISH
X-ORIGINAL-URL:https://stacygabel.com
X-WR-CALDESC:Events for Stacy Gabel Music
REFRESH-INTERVAL;VALUE=DURATION:PT1H
X-Robots-Tag:noindex
X-PUBLISHED-TTL:PT1H
BEGIN:VTIMEZONE
TZID:UTC
BEGIN:STANDARD
TZOFFSETFROM:+0000
TZOFFSETTO:+0000
TZNAME:UTC
DTSTART:20240101T000000
END:STANDARD
END:VTIMEZONE
BEGIN:VEVENT
DTSTART;TZID=UTC:20250916T200000
DTEND;TZID=UTC:20250916T230000
DTSTAMP:20260421T020750
CREATED:20250625T120435Z
LAST-MODIFIED:20250909T024624Z
UID:6196-1758052800-1758063600@stacygabel.com
SUMMARY:Stacy Gabel UK Tour: Acoustic Singer Songwriter Night at The Troubadour\, London
DESCRIPTION:I’m playing at the TROUBADOUR in LONDON\, ENGLAND—one of the city’s most legendary live music venues! \nI’m headed back to the UK for another tour\, and I’ll be joining my friends Jeremy Engel and Ian Jamieson for an intimate night of acoustic folk\, storytelling\, and musical camaraderie. Come for the songs\, stay for the shared spirit and connection that only live music can bring. \nThe Troubadour is a cornerstone of London’s musical history. Since 1954\, it’s hosted everyone from Bob Dylan and Joni Mitchell to Adele and Ed Sheeran. With its warm\, underground vibe and rich legacy\, it’s the perfect setting for a night of honest\, heartfelt music. \nDoors open at 7:30 PM—come early\, grab a drink\, and settle in for a special night! \nTickets: £10 at the door / £8 in advance
URL:https://stacygabel.com/event/stacy-gabel-uk-tour-live-at-the-troubadour-london-sept-16/
LOCATION:Troubadour London\, 265-267 Old Brompton Rd\, London\, England\, SW5 9JA\, United Kingdom
CATEGORIES:Performances
ATTACH;FMTTYPE=image/jpeg:https://stacygabel.com/wp-content/uploads/2025/06/Troubadour-with-guys-bigger-photo-1.jpg
END:VEVENT
END:VCALENDAR