BEGIN:VCALENDAR
VERSION:2.0
PRODID:-//Stacy Gabel Music - ECPv6.15.20//NONSGML v1.0//EN
CALSCALE:GREGORIAN
METHOD:PUBLISH
X-WR-CALNAME:Stacy Gabel Music
X-ORIGINAL-URL:https://stacygabel.com
X-WR-CALDESC:Events for Stacy Gabel Music
REFRESH-INTERVAL;VALUE=DURATION:PT1H
X-Robots-Tag:noindex
X-PUBLISHED-TTL:PT1H
BEGIN:VTIMEZONE
TZID:UTC
BEGIN:STANDARD
TZOFFSETFROM:+0000
TZOFFSETTO:+0000
TZNAME:UTC
DTSTART:20240101T000000
END:STANDARD
END:VTIMEZONE
BEGIN:VEVENT
DTSTART;TZID=UTC:20251121T153000
DTEND;TZID=UTC:20251218T170000
DTSTAMP:20260420T163852
CREATED:20251112T192149Z
LAST-MODIFIED:20251123T162555Z
UID:6333-1763739000-1766077200@stacygabel.com
SUMMARY:Stacy Gabel Holiday Music at Christkindlmarkt at the Christmas City of Bethlehem\, PA 11/21\, 11/23\, 12/4\, 12/18
DESCRIPTION:Join me for holiday music at one of the top holiday markets in the world! \nI’ll be performing at Christkindlmarkt in the Christmas City of Bethlehem\, PA \nDates/Times are listed here: \n11/21 3:30-5\n11/23 11:30-12:30\, 1:30-2:30\n12/4 3:30-5\n12/18 3:30-5
URL:https://stacygabel.com/event/stacy-gabel-holiday-music-at-christkindlmarkt-at-the-christmas-city-of-bethlehem-pa/
LOCATION:ArtsQuest\, 101 Founders Way\, Bethlehem\, PA\, 18015\, United States
CATEGORIES:Performances
ATTACH;FMTTYPE=image/jpeg:https://stacygabel.com/wp-content/uploads/2025/11/Christkindlmarkt-2025.jpg
END:VEVENT
BEGIN:VEVENT
DTSTART;TZID=UTC:20251210T170000
DTEND;TZID=UTC:20251210T180000
DTSTAMP:20260420T163852
CREATED:20251112T195646Z
LAST-MODIFIED:20251123T045637Z
UID:6336-1765386000-1765389600@stacygabel.com
SUMMARY:Stacy Gabel Music at the Christmas Village at LOVE Park and City Hall in Philadelphia\, PA
DESCRIPTION:Come out to hear your holiday favorites in center city Philly on Dec 10th at 5:00pm \nI’ll be performing “Merry Christmas My Friends” along with familiar classics in the “City of Brotherly Love” \nThere will be plenty of Holiday shopping and Live Music at this traditional market
URL:https://stacygabel.com/event/stacy-gabel-music-at-the-christmas-village-in-philadelphia-pa-at-love-park-and-city-hall/
LOCATION:Philadelphia Love Park\, 1500 JFK Blvd\, Philadelphia\, 19102\, United States
CATEGORIES:Performances
ATTACH;FMTTYPE=image/jpeg:https://stacygabel.com/wp-content/uploads/2025/11/Philly-Christmas-Village-2025-1.jpg
END:VEVENT
BEGIN:VEVENT
DTSTART;TZID=UTC:20251211T190000
DTEND;TZID=UTC:20251223T210000
DTSTAMP:20260420T163852
CREATED:20251123T043502Z
LAST-MODIFIED:20251123T051159Z
UID:6500-1765479600-1766523600@stacygabel.com
SUMMARY:Stacy Gabel Holiday Music at Winter Lights Spectacular at the Lehigh Valley Zoo in Schnecksville\, PA 12/11\, 12/19\, 12/23
DESCRIPTION:Join me for LIVE holiday music at the Winter Lights Spectacular! \nI’ll be performing at the Lehigh Valley Zoo in Schnecksville\, PA \nDates/Times are listed here: \nThursday\, 12/11\nFriday\, 12/19\nTuesday\, 12/23 \nAll from 7-9 \n 
URL:https://stacygabel.com/event/stacy-gabel-holiday-music-at-winter-lights-spectacular-at-the-lehigh-valley-zoo-in-schnecksville-pa-12-11-12-19-12-23/
LOCATION:Lehigh Valley Zoo\, 5150 Game Preserve Rd\, Schnecksville\, PA\, 18078\, United States
CATEGORIES:Performances
ATTACH;FMTTYPE=image/jpeg:https://stacygabel.com/wp-content/uploads/2025/11/Winter-Lights-Spectacular-Website.jpg
END:VEVENT
BEGIN:VEVENT
DTSTART;TZID=UTC:20251219T190000
DTEND;TZID=UTC:20251219T210000
DTSTAMP:20260420T163852
CREATED:20251123T045029Z
LAST-MODIFIED:20251123T045029Z
UID:6503-1766170800-1766178000@stacygabel.com
SUMMARY:Stacy Gabel Holiday Music at Winter Lights Spectacular at the Lehigh Valley Zoo in Schnecksville\, PA 12/11\, 12/19\, 12/23
DESCRIPTION:Join me for LIVE holiday music at the Winter Lights Spectacular! \nI’ll be performing at the Lehigh Valley Zoo in Schnecksville\, PA \nDates/Times are listed here: \nThursday\, 12/11\nFriday\, 12/19\nTuesday\, 12/23 \nAll from 7-9 \n 
URL:https://stacygabel.com/event/stacy-gabel-holiday-music-at-winter-lights-spectacular-at-the-lehigh-valley-zoo-in-schnecksville-pa-12-11-12-19-12-23-2/
LOCATION:Lehigh Valley Zoo\, 5150 Game Preserve Rd\, Schnecksville\, PA\, 18078\, United States
CATEGORIES:Performances
ATTACH;FMTTYPE=image/jpeg:https://stacygabel.com/wp-content/uploads/2025/11/Winter-Lights-Spectacular-Website.jpg
END:VEVENT
END:VCALENDAR