BEGIN:VCALENDAR
VERSION:2.0
PRODID:-//Stacy Gabel Music - ECPv6.15.20//NONSGML v1.0//EN
CALSCALE:GREGORIAN
METHOD:PUBLISH
X-ORIGINAL-URL:https://stacygabel.com
X-WR-CALDESC:Events for Stacy Gabel Music
REFRESH-INTERVAL;VALUE=DURATION:PT1H
X-Robots-Tag:noindex
X-PUBLISHED-TTL:PT1H
BEGIN:VTIMEZONE
TZID:UTC
BEGIN:STANDARD
TZOFFSETFROM:+0000
TZOFFSETTO:+0000
TZNAME:UTC
DTSTART:20230101T000000
END:STANDARD
END:VTIMEZONE
BEGIN:VEVENT
DTSTART;TZID=UTC:20241213T160000
DTEND;TZID=UTC:20241213T190000
DTSTAMP:20260424T044529
CREATED:20241030T005514Z
LAST-MODIFIED:20241122T141213Z
UID:5987-1734105600-1734116400@stacygabel.com
SUMMARY:🍷🕯️ Stacy Gabel Music at Clover Hill Vineyards for Light the Lane Event 12/13 4-7p
DESCRIPTION:Join me for a special holiday event at Clover Hill Vineyards and Winery on Friday\, Dec 13th 4-7p \nWine Tastings and Live Music \nFood will be provided by Spuds. (Gourmet Catering and Traveling Burger Bar) \nThis event is a tribute to Clover Hill founder\, John Skrip Jr. He and his wife\, Pat\, would “Light the Lane” for everyone to enjoy and now we can share in this special event as well! \nLuminary bags shining bright in honor of loved ones are available for advanced purchase. All money collected will be donated to the Salvation Army\, one of John’s favorite organizations.
URL:https://stacygabel.com/event/%f0%9f%8d%b7%f0%9f%95%af%ef%b8%8f-stacy-gabel-music-at-clover-hill-vineyards-for-light-the-lane-event-12-13-4-7p/
LOCATION:Clover Hill Vineyards & Winery\, 9850 Newtown Rd\, Breinigsville\, PA\, 18031\, United States
CATEGORIES:Performances
ATTACH;FMTTYPE=image/jpeg:https://stacygabel.com/wp-content/uploads/2024/10/Clover-Hill-Winery-Light-the-Lane.jpg
END:VEVENT
BEGIN:VEVENT
DTSTART;TZID=UTC:20241217T170000
DTEND;TZID=UTC:20241217T200000
DTSTAMP:20260424T044529
CREATED:20241122T213808Z
LAST-MODIFIED:20241122T213808Z
UID:6009-1734454800-1734465600@stacygabel.com
SUMMARY:Holiday Music with Stacy Gabel at the Lehigh Valley Zoo Winter Lights Spectacular
DESCRIPTION:Come out for some winter holiday fun at the Lehigh Valley Zoo! \nI’ll be singing and entertaining to spread some holiday cheer with your favorite holiday songs including Stacy’s newest Christmas songs\, “Merry Christmas My Friends” and “Just Ain’t Christmas” \n2 DATES – 12/17 & 12/22 \nOver 1.2 million lights at the Lehigh Valley’s Original Holiday Tradition! \n  \n 
URL:https://stacygabel.com/event/holiday-music-with-stacy-gabel-at-the-lehigh-valley-zoo-winter-lights-spectacular/
LOCATION:Lehigh Valley Zoo\, 5150 Game Preserve Rd\, Schnecksville\, PA\, 18078\, United States
CATEGORIES:Performances
ATTACH;FMTTYPE=image/jpeg:https://stacygabel.com/wp-content/uploads/2024/11/LV-Zoo-Holiday-Music.jpg
END:VEVENT
BEGIN:VEVENT
DTSTART;TZID=UTC:20241221T173000
DTEND;TZID=UTC:20241221T193000
DTSTAMP:20260424T044529
CREATED:20241030T014306Z
LAST-MODIFIED:20241030T022018Z
UID:5990-1734802200-1734809400@stacygabel.com
SUMMARY:Stacy Gabel Music at ArtsQuest's Palette & Pour Restaurant at SteelStacks in Bethlehem\, PA
DESCRIPTION:Join me for some holiday fun at Palette & Pour at ArtsQuest’s Williams Brew Stage in Bethlehem\, PA \nYou can warm up after shopping during the final weekend of Christkindlmarkt – stop over for some food and drinks and live music! \nMusic is from 5:30-7:30p
URL:https://stacygabel.com/event/stacy-gabel-music-at-artsquests-palette-pour-restaurant-at-steelstacks-in-bethlehem-pa/
LOCATION:ArtsQuest\, 101 Founders Way\, Bethlehem\, PA\, 18015\, United States
CATEGORIES:Performances
ATTACH;FMTTYPE=image/jpeg:https://stacygabel.com/wp-content/uploads/2024/10/Palette-Pour-blank.jpg
END:VEVENT
BEGIN:VEVENT
DTSTART;TZID=UTC:20241222T170000
DTEND;TZID=UTC:20241222T200000
DTSTAMP:20260424T044529
CREATED:20241122T215047Z
LAST-MODIFIED:20241122T220111Z
UID:6012-1734886800-1734897600@stacygabel.com
SUMMARY:Holiday Music with Stacy Gabel at the Lehigh Valley Zoo Winter Lights Spectacular
DESCRIPTION:Come out for some winter holiday fun at the Lehigh Valley Zoo! \nI’ll be singing and entertaining to spread some holiday cheer with your favorite holiday songs including Stacy’s newest Christmas songs\, “Merry Christmas My Friends” and “Just Ain’t Christmas” \n2 DATES – 12/17 & 12/22 \nOver 1.2 million lights at the Lehigh Valley’s Original Holiday Tradition! \n  \n 
URL:https://stacygabel.com/event/holiday-music-with-stacy-gabel-at-the-lehigh-valley-zoo-winter-lights-spectacular-2/
LOCATION:Lehigh Valley Zoo\, 5150 Game Preserve Rd\, Schnecksville\, PA\, 18078\, United States
CATEGORIES:Performances
ATTACH;FMTTYPE=image/jpeg:https://stacygabel.com/wp-content/uploads/2024/11/LV-Zoo-Holiday-Music.jpg
END:VEVENT
BEGIN:VEVENT
DTSTART;TZID=UTC:20241227T180000
DTEND;TZID=UTC:20241227T210000
DTSTAMP:20260424T044529
CREATED:20241030T023157Z
LAST-MODIFIED:20241030T023211Z
UID:5993-1735322400-1735333200@stacygabel.com
SUMMARY:Stacy Gabel Music at McCoole's Historic Red Lion Inn Restaurant in Quakertown\, PA
DESCRIPTION:Join me for holiday music at McCoole’s Old Time Tavern at the Historic Red Lion Inn \nFriday\, Dec 27th 6-9pm \nThis will be my final performance of 2024 so come out and end the year with me! \nReservations are recommended 215-538-1776 \n 
URL:https://stacygabel.com/event/stacy-gabel-music-at-mccooles-historic-red-lion-inn-restaurant-in-quakertown-pa-12-27/
LOCATION:McCoole’s Arts & Events Place\, 10 South Main Street\, Quakertown\, PA\, 18951\, United States
CATEGORIES:Performances
ATTACH;FMTTYPE=image/jpeg:https://stacygabel.com/wp-content/uploads/2024/10/McCooles-at-holiday-time.jpg
END:VEVENT
END:VCALENDAR