BEGIN:VCALENDAR
VERSION:2.0
PRODID:-//Stacy Gabel Music - ECPv6.15.20//NONSGML v1.0//EN
CALSCALE:GREGORIAN
METHOD:PUBLISH
X-ORIGINAL-URL:https://stacygabel.com
X-WR-CALDESC:Events for Stacy Gabel Music
REFRESH-INTERVAL;VALUE=DURATION:PT1H
X-Robots-Tag:noindex
X-PUBLISHED-TTL:PT1H
BEGIN:VTIMEZONE
TZID:UTC
BEGIN:STANDARD
TZOFFSETFROM:+0000
TZOFFSETTO:+0000
TZNAME:UTC
DTSTART:20230101T000000
END:STANDARD
END:VTIMEZONE
BEGIN:VEVENT
DTSTART;TZID=UTC:20240714T130000
DTEND;TZID=UTC:20240714T160000
DTSTAMP:20260424T155950
CREATED:20240621T220249Z
LAST-MODIFIED:20240621T220249Z
UID:5793-1720962000-1720972800@stacygabel.com
SUMMARY:🎵 7/14 Stacy Gabel Music at the Slatington Market & Expo Center – PA
DESCRIPTION:Join me for Live Music at the all new market & expo center from 1-4p
URL:https://stacygabel.com/event/%f0%9f%8e%b5-7-14-stacy-gabel-music-at-the-slatington-market-expo-center-pa/
LOCATION:Slatington Farmer’s Market\, 8281 PA-873\, Slatington\, 18080\, United States
CATEGORIES:Performances
ATTACH;FMTTYPE=image/jpeg:https://stacygabel.com/wp-content/uploads/2024/02/Slatington-Farmers-Market.jpg
END:VEVENT
END:VCALENDAR