BEGIN:VCALENDAR
VERSION:2.0
PRODID:-//Stacy Gabel Music - ECPv6.15.20//NONSGML v1.0//EN
CALSCALE:GREGORIAN
METHOD:PUBLISH
X-ORIGINAL-URL:https://stacygabel.com
X-WR-CALDESC:Events for Stacy Gabel Music
REFRESH-INTERVAL;VALUE=DURATION:PT1H
X-Robots-Tag:noindex
X-PUBLISHED-TTL:PT1H
BEGIN:VTIMEZONE
TZID:UTC
BEGIN:STANDARD
TZOFFSETFROM:+0000
TZOFFSETTO:+0000
TZNAME:UTC
DTSTART:20250101T000000
END:STANDARD
END:VTIMEZONE
BEGIN:VEVENT
DTSTART;TZID=UTC:20260101T173000
DTEND;TZID=UTC:20260101T203000
DTSTAMP:20260420T125620
CREATED:20251217T043049Z
LAST-MODIFIED:20251217T043049Z
UID:6522-1767288600-1767299400@stacygabel.com
SUMMARY:🎶Stacy Gabel Live Music at the Chattaway | New Year's Day 🌴
DESCRIPTION:Ring in New Year’s Day with live music from Stacy Gabel at the iconic Chattaway in St. Pete. Enjoy an evening of singer-songwriter\, acoustic-driven live music in a laid-back tiki bar setting—perfect for easing into the new year with great tunes\, cold drinks\, and Florida vibes. \nLive music from 5:30–8:30 PMCome early\, grab a seat\, and settle in for a relaxed night of original songs and well-loved favorites
URL:https://stacygabel.com/event/%f0%9f%8e%b6stacy-gabel-live-music-at-the-chattaway-new-years-day-%f0%9f%8c%b4/
LOCATION:Chattaway\, 358 22nd Ave S\, St. Petersburg\, FL\, 33705\, United States
CATEGORIES:Performances
ATTACH;FMTTYPE=image/jpeg:https://stacygabel.com/wp-content/uploads/2025/12/Chattaway-Jan-1st-2026.jpg
END:VEVENT
END:VCALENDAR