BEGIN:VCALENDAR
VERSION:2.0
PRODID:-//Stacy Gabel Music - ECPv6.15.20//NONSGML v1.0//EN
CALSCALE:GREGORIAN
METHOD:PUBLISH
X-WR-CALNAME:Stacy Gabel Music
X-ORIGINAL-URL:https://stacygabel.com
X-WR-CALDESC:Events for Stacy Gabel Music
REFRESH-INTERVAL;VALUE=DURATION:PT1H
X-Robots-Tag:noindex
X-PUBLISHED-TTL:PT1H
BEGIN:VTIMEZONE
TZID:UTC
BEGIN:STANDARD
TZOFFSETFROM:+0000
TZOFFSETTO:+0000
TZNAME:UTC
DTSTART:20250101T000000
END:STANDARD
END:VTIMEZONE
BEGIN:VEVENT
DTSTART;TZID=UTC:20260215T150000
DTEND;TZID=UTC:20260215T180000
DTSTAMP:20260420T095404
CREATED:20260209T002654Z
LAST-MODIFIED:20260210T233056Z
UID:6541-1771167600-1771178400@stacygabel.com
SUMMARY:🌙💖 Stacy Gabel Music - "Over the Moon" Valentine's Day Event at Triple Sun Spirits 2/15
DESCRIPTION:Come out and join the Emmaus Rotary Club for a special Valentine’s family friendly fundraiser event to benefit the East Penn Food Coalition \n3-6pm \n When: Sunday\, February 15\, 2026\, from 3pm – 6pm\n Where: Triple Sun Spirits 518 Bank St. Emmaus Pa.\n Registration: $40 Per Adult. $10 for Kids under 12.  In advance or CASH at the door. \nThis Family Friendly Dance Party Features: \n\nLive Music by Stacy Gabel\nOld Timey “Over the Moon” Photos with instant prints and digital access!\nDecorate our own photo frame station.\nLearn a few dance moves with Lotus & Lily  Professional Dance Instructor Lilly Frangipane\nVintage Valentine Cookies for those who pre-register by 1/31/26. made by Hayden’s Confections.\nBasket Raffle Fundraiser! (interested in donating? Contact rebeccanhite@gmail.com)\nBar open for adult beverage purchases.\nFestive Flavors by Don Juan Mex Grill and lots of Sweet Treats too!\nFancy Attire encouraged but NOT required.  This is a foot loose and fancy-free dance party for kids at heart of all ages!\n\n👗👔 Fancy attire encouraged but NOT required \nSponsorship Opportunities available!\nContact Meghan Reed at mreed@emmausrotary.org
URL:https://stacygabel.com/event/%f0%9f%8c%99%f0%9f%92%96-stacy-gabel-music-over-the-moon-valentines-day-event-at-triple-sun-spirits-2-15/
LOCATION:Triple Sun Spirits\, 518 Bank St Unit A\, Emmaus\, PA\, 18049\, United States
CATEGORIES:Performances
ATTACH;FMTTYPE=image/jpeg:https://stacygabel.com/wp-content/uploads/2025/01/FB-Event-BEST-ONE.jpg
END:VEVENT
END:VCALENDAR