BEGIN:VCALENDAR
VERSION:2.0
PRODID:-//Stacy Gabel Music - ECPv6.15.20//NONSGML v1.0//EN
CALSCALE:GREGORIAN
METHOD:PUBLISH
X-WR-CALNAME:Stacy Gabel Music
X-ORIGINAL-URL:https://stacygabel.com
X-WR-CALDESC:Events for Stacy Gabel Music
REFRESH-INTERVAL;VALUE=DURATION:PT1H
X-Robots-Tag:noindex
X-PUBLISHED-TTL:PT1H
BEGIN:VTIMEZONE
TZID:UTC
BEGIN:STANDARD
TZOFFSETFROM:+0000
TZOFFSETTO:+0000
TZNAME:UTC
DTSTART:20240101T000000
END:STANDARD
END:VTIMEZONE
BEGIN:VEVENT
DTSTART;TZID=UTC:20250818T120000
DTEND;TZID=UTC:20250818T130000
DTSTAMP:20260421T164654
CREATED:20250616T180628Z
LAST-MODIFIED:20250814T190403Z
UID:6187-1755518400-1755522000@stacygabel.com
SUMMARY:💙🐾Miss Stacy joins Bluey at the Zoo-ey for an End of Summer Bash at the Lehigh Valley Zoo
DESCRIPTION:Come out and celebrate the end of summer with your favorite blue healer pup and your favorite Kid musician! \nBLUEY & MISS STACY together at the Lehigh Valley Zoo for an END OF SUMMER BASH! \nI’ll be playing music and entertaining from 12-1 but the BASH is from 11-3p
URL:https://stacygabel.com/event/miss-stacy-joins-bluey-at-the-zoo-ey-for-an-end-of-summer-bash-at-the-lehigh-valley-zoo/
LOCATION:Lehigh Valley Zoo\, 5150 Game Preserve Rd\, Schnecksville\, PA\, 18078\, United States
CATEGORIES:Performances
ATTACH;FMTTYPE=image/jpeg:https://stacygabel.com/wp-content/uploads/2025/06/Bluey-at-the-Zoo-y.jpg
END:VEVENT
END:VCALENDAR