BEGIN:VCALENDAR
VERSION:2.0
PRODID:-//Stacy Gabel Music - ECPv6.15.20//NONSGML v1.0//EN
CALSCALE:GREGORIAN
METHOD:PUBLISH
X-WR-CALNAME:Stacy Gabel Music
X-ORIGINAL-URL:https://stacygabel.com
X-WR-CALDESC:Events for Stacy Gabel Music
REFRESH-INTERVAL;VALUE=DURATION:PT1H
X-Robots-Tag:noindex
X-PUBLISHED-TTL:PT1H
BEGIN:VTIMEZONE
TZID:UTC
BEGIN:STANDARD
TZOFFSETFROM:+0000
TZOFFSETTO:+0000
TZNAME:UTC
DTSTART:20240101T000000
END:STANDARD
END:VTIMEZONE
BEGIN:VEVENT
DTSTART;TZID=UTC:20250802T133000
DTEND;TZID=UTC:20250802T154500
DTSTAMP:20260421T030745
CREATED:20250731T223246Z
LAST-MODIFIED:20250731T224837Z
UID:6236-1754141400-1754149500@stacygabel.com
SUMMARY:🐧🎶 Miss Stacy’s Kids’ Shows at Musikfest – Bethlehem\, PA
DESCRIPTION:Bring the kids out for this fun music\, movement and stories events with Miss Stacy on the Familienplatz Stage \n4 shows – Saturday\, Aug 2 1:30 + 3:00\nSaturday\, Aug 9 1:30 + 3:00 \nMore info and booking at Miss-Stacy.com \nDOWNLOAD THE MUSIKFEST APP today and Add MISS STACY to your schedule: https://www.musikfest.org/app/ \nGo to <Line up and Schedule>\nLook for Miss Stacy (for the kids)\nalso add Stacy Gabel Solo Acoustic\, The Stacy Gabel Band\, and Stacy Gabel: A Touch of Class shows (fun for all ages)
URL:https://stacygabel.com/event/%f0%9f%90%a7%f0%9f%8e%b6-miss-stacys-kids-shows-at-musikfest-bethlehem-pa-3/
LOCATION:Musikfest\, 101 Founders Way\, Bethlehem\, PA\, 18015\, United States
CATEGORIES:Performances
ATTACH;FMTTYPE=image/jpeg:https://stacygabel.com/wp-content/uploads/2025/07/FB-Event-Cover-Photo-Kids-Shows-Musikfest.jpg
END:VEVENT
BEGIN:VEVENT
DTSTART;TZID=UTC:20250809T133000
DTEND;TZID=UTC:20250809T154500
DTSTAMP:20260421T030745
CREATED:20250731T223550Z
LAST-MODIFIED:20250731T224927Z
UID:6239-1754746200-1754754300@stacygabel.com
SUMMARY:🐧🎶 Miss Stacy’s Kids’ Shows at Musikfest – Bethlehem\, PA
DESCRIPTION:Bring the kids out for this fun music\, movement and stories events with Miss Stacy on the Familienplatz Stage \n4 shows – Saturday\, Aug 2 1:30 + 3:00\nSaturday\, Aug 9 1:30 + 3:00 \nMore info and booking at Miss-Stacy.com \nDOWNLOAD THE MUSIKFEST APP today and Add MISS STACY to your schedule: https://www.musikfest.org/app/ \nGo to <Line up and Schedule>\nLook for Miss Stacy (for the kids)\nalso add Stacy Gabel Solo Acoustic\, The Stacy Gabel Band\, and Stacy Gabel: A Touch of Class shows (fun for all ages)
URL:https://stacygabel.com/event/%f0%9f%90%a7%f0%9f%8e%b6-miss-stacys-kids-shows-at-musikfest-bethlehem-pa-4/
LOCATION:Musikfest\, 101 Founders Way\, Bethlehem\, PA\, 18015\, United States
CATEGORIES:Performances
ATTACH;FMTTYPE=image/jpeg:https://stacygabel.com/wp-content/uploads/2025/07/FB-Event-Cover-Photo-Kids-Shows-Musikfest.jpg
END:VEVENT
BEGIN:VEVENT
DTSTART;TZID=UTC:20250829T140000
DTEND;TZID=UTC:20250829T144500
DTSTAMP:20260421T030745
CREATED:20250805T212813Z
LAST-MODIFIED:20250822T130933Z
UID:6257-1756476000-1756478700@stacygabel.com
SUMMARY:🎶 8/29 Stacy Gabel Music (Miss Stacy’s Kids’ Show) at the Great Allentown Fair – PA
DESCRIPTION:Bring the little ones out for Miss Stacy’s Kids’ Show at the Allentown Fair BEFORE BLIPPI takes the Mainstage! \nAstound Broadband Farmerama Theater\nFriday\, August 29\n2 PM – Miss Stacy’s Kid’s Show – “At the Zoo-oo-oo” with Music\, Movement and Stories for the younger audience
URL:https://stacygabel.com/event/%f0%9f%8e%b6-8-29-stacy-gabel-music-miss-stacys-kids-show-at-the-great-allentown-fair-pa/
LOCATION:The Great Allentown Fair\, 302 N 17th St.\, Allentown\, PA\, 18104\, United States
CATEGORIES:Performances
ATTACH;FMTTYPE=image/jpeg:https://stacygabel.com/wp-content/uploads/2025/08/Allentown-Fair-2025.jpg
END:VEVENT
END:VCALENDAR