BEGIN:VCALENDAR
VERSION:2.0
PRODID:-//Stacy Gabel Music - ECPv6.15.20//NONSGML v1.0//EN
CALSCALE:GREGORIAN
METHOD:PUBLISH
X-ORIGINAL-URL:https://stacygabel.com
X-WR-CALDESC:Events for Stacy Gabel Music
REFRESH-INTERVAL;VALUE=DURATION:PT1H
X-Robots-Tag:noindex
X-PUBLISHED-TTL:PT1H
BEGIN:VTIMEZONE
TZID:UTC
BEGIN:STANDARD
TZOFFSETFROM:+0000
TZOFFSETTO:+0000
TZNAME:UTC
DTSTART:20240101T000000
END:STANDARD
END:VTIMEZONE
BEGIN:VEVENT
DTSTART;TZID=UTC:20250719T120000
DTEND;TZID=UTC:20250719T140000
DTSTAMP:20260421T190632
CREATED:20250320T070812Z
LAST-MODIFIED:20250602T004734Z
UID:6114-1752926400-1752933600@stacygabel.com
SUMMARY:Stacy Gabel Music at Daryl's House Club - Pawling\, NY
DESCRIPTION:Stacy Gabel will perform at Daryl Hall’s Music venue on Saturday\, 7/19 \nDaryl’s House Club\, a restaurant and music venue is owned and operated by Daryl Hall\, the singer and songwriter known for his work in the band Hall & Oates. \nIt’s home base for his MTV web series\, “Live from Daryl’s House” \nAll Ages are welcome
URL:https://stacygabel.com/event/stacy-gabel-music-at-daryls-house-club-pawling-ny/
LOCATION:Daryl’ls House Club\, 130 NY-22\, Pawling\, NY\, 12564\, United States
CATEGORIES:Performances
ATTACH;FMTTYPE=image/jpeg:https://stacygabel.com/wp-content/uploads/2025/03/Daryl-Hall-Tickets-now.jpg
END:VEVENT
END:VCALENDAR