BEGIN:VCALENDAR
VERSION:2.0
PRODID:-//Stacy Gabel Music - ECPv6.15.20//NONSGML v1.0//EN
CALSCALE:GREGORIAN
METHOD:PUBLISH
X-ORIGINAL-URL:https://stacygabel.com
X-WR-CALDESC:Events for Stacy Gabel Music
REFRESH-INTERVAL;VALUE=DURATION:PT1H
X-Robots-Tag:noindex
X-PUBLISHED-TTL:PT1H
BEGIN:VTIMEZONE
TZID:UTC
BEGIN:STANDARD
TZOFFSETFROM:+0000
TZOFFSETTO:+0000
TZNAME:UTC
DTSTART:20230101T000000
END:STANDARD
END:VTIMEZONE
BEGIN:VEVENT
DTSTART;TZID=UTC:20240831T110000
DTEND;TZID=UTC:20240831T120000
DTSTAMP:20260423T135138
CREATED:20240722T001906Z
LAST-MODIFIED:20240722T002433Z
UID:5881-1725102000-1725105600@stacygabel.com
SUMMARY:🎶 8/31 The Stacy Gabel Band at StroudFest presented by the Sherman Theatre – Stroudsburg\, PA
DESCRIPTION:Come out for an evening of fun beachy music with The Stacy Gabel Band! \nCELEBRATE THE RELEASE OF STACY’S NEWEST SINGLE WITH THE FULL BAND!\nPre-Save the new song TODAY on Spotify\, Apple Music\, YouTube\, and more!   PRE-SAVE HERE\n\nWe’re so excited to be performing as part of the Sherman Theatre’s StroudFest 2024! \n\nFun Summer Beach Songs by Jimmy Buffett\, Sheryl Crow\, Beach Boys\, Zac Brown Band\, Jason Mraz + many more favorites and featuring Stacy Gabel originals\n\nBring the entire family and get ready to sing along and enjoy some of your favorite summer songs\n\nFuture Summer full band shows:\n\nFor more info or booking go to:www.StacyGabel.com/Bandinfo@stacygabel.com
URL:https://stacygabel.com/event/%f0%9f%8e%b6-8-31-the-stacy-gabel-band-at-stroudfest-presented-by-the-sherman-theatre-stroudsburg-pa/
LOCATION:Sherman Theater\, 524 Main Street PA\, Stroudsburg\, PA\, 18360\, United States
CATEGORIES:Performances
ATTACH;FMTTYPE=image/jpeg:https://stacygabel.com/wp-content/uploads/2024/07/Smaller-Stroudfest-e1721607864676.jpg
ORGANIZER;CN="Sherman Theater":MAILTO:ticketsales@shermantheater.com
END:VEVENT
END:VCALENDAR