BEGIN:VCALENDAR
VERSION:2.0
PRODID:-//Stacy Gabel Music - ECPv6.15.20//NONSGML v1.0//EN
CALSCALE:GREGORIAN
METHOD:PUBLISH
X-ORIGINAL-URL:https://stacygabel.com
X-WR-CALDESC:Events for Stacy Gabel Music
REFRESH-INTERVAL;VALUE=DURATION:PT1H
X-Robots-Tag:noindex
X-PUBLISHED-TTL:PT1H
BEGIN:VTIMEZONE
TZID:UTC
BEGIN:STANDARD
TZOFFSETFROM:+0000
TZOFFSETTO:+0000
TZNAME:UTC
DTSTART:20230101T000000
END:STANDARD
END:VTIMEZONE
BEGIN:VEVENT
DTSTART;TZID=UTC:20240728T180000
DTEND;TZID=UTC:20240728T200000
DTSTAMP:20260424T022352
CREATED:20240320T035938Z
LAST-MODIFIED:20240722T001041Z
UID:5403-1722189600-1722196800@stacygabel.com
SUMMARY:🎶 7/28 The Stacy Gabel Band "New Summer Music Release Party" at the Emmaus Community Park Music in the Park Summer Concert - PA
DESCRIPTION:Come out for an evening of fun beachy music with The Stacy Gabel Band! \nCELEBRATE THE RELEASE OF STACY’S NEWEST SINGLE!  LIVE PREMIERE WITH THE FULL BAND!\nPre-Save the new song TODAY on Spotify\, Apple Music\, YouTube\, and more!   PRE-SAVE HERE\n\nWe’re so excited to be performing as part of the Emmaus Summer Concert Series! \n\nFun Summer Beach Songs by Jimmy Buffett\, Sheryl Crow\, Beach Boys\, Zac Brown Band\, Jason Mraz + many more favorites and featuring Stacy Gabel originals\n\nBring the entire family and get ready to sing along and enjoy some of your favorite summer songs\n\nFuture Summer full band shows:\n\n 8/7 Musikfest Plaza Tropical Stage 8/31 Stroudfest\n\nFor more info or booking go to:www.StacyGabel.com/Bandinfo@stacygabel.com\n  \n 
URL:https://stacygabel.com/event/%f0%9f%8e%b6-7-28-the-stacy-gabel-band-at-emmaus-community-music-in-the-park-summer-concert-pa/
LOCATION:Emmaus Community Park\, 1330 Chestnut St\, Emmaus\, PA\, 18049\, United States
CATEGORIES:Performances
ATTACH;FMTTYPE=image/jpeg:https://stacygabel.com/wp-content/uploads/2024/03/Release-Party-2024-2.jpg
END:VEVENT
END:VCALENDAR