BEGIN:VCALENDAR
VERSION:2.0
PRODID:-//Stacy Gabel Music - ECPv6.15.20//NONSGML v1.0//EN
CALSCALE:GREGORIAN
METHOD:PUBLISH
X-ORIGINAL-URL:https://stacygabel.com
X-WR-CALDESC:Events for Stacy Gabel Music
REFRESH-INTERVAL;VALUE=DURATION:PT1H
X-Robots-Tag:noindex
X-PUBLISHED-TTL:PT1H
BEGIN:VTIMEZONE
TZID:UTC
BEGIN:STANDARD
TZOFFSETFROM:+0000
TZOFFSETTO:+0000
TZNAME:UTC
DTSTART:20230101T000000
END:STANDARD
END:VTIMEZONE
BEGIN:VEVENT
DTSTART;TZID=UTC:20241109T130000
DTEND;TZID=UTC:20241109T150000
DTSTAMP:20260423T105627
CREATED:20241029T235017Z
LAST-MODIFIED:20241029T235407Z
UID:5983-1731157200-1731164400@stacygabel.com
SUMMARY:📚 "At the Zoo-oo-oo" Book signing Event with Stacy Gabel at the Moravian Book Shop - Bethlehem\, PA
DESCRIPTION:Come out to the Moravian Book Shop for an Author Event & Book Signing \n“At the Zoo-oo-oo” by Stacy Gabel \n11/9 & 12/13 \n1:00 – 3:00p
URL:https://stacygabel.com/event/%f0%9f%93%9a-at-the-zoo-oo-oo-book-signing-event-with-stacy-gabel-at-the-moravian-book-shop-bethlehem-pa/
LOCATION:Moravian book shop
CATEGORIES:Performances
ATTACH;FMTTYPE=image/png:https://stacygabel.com/wp-content/uploads/2024/10/Book-Signings.png
END:VEVENT
END:VCALENDAR