BEGIN:VCALENDAR
VERSION:2.0
PRODID:-//Stacy Gabel Music - ECPv6.15.20//NONSGML v1.0//EN
CALSCALE:GREGORIAN
METHOD:PUBLISH
X-WR-CALNAME:Stacy Gabel Music
X-ORIGINAL-URL:https://stacygabel.com
X-WR-CALDESC:Events for Stacy Gabel Music
REFRESH-INTERVAL;VALUE=DURATION:PT1H
X-Robots-Tag:noindex
X-PUBLISHED-TTL:PT1H
BEGIN:VTIMEZONE
TZID:UTC
BEGIN:STANDARD
TZOFFSETFROM:+0000
TZOFFSETTO:+0000
TZNAME:UTC
DTSTART:20230101T000000
END:STANDARD
END:VTIMEZONE
BEGIN:VEVENT
DTSTART;TZID=UTC:20240804T133000
DTEND;TZID=UTC:20240811T153000
DTSTAMP:20260424T132744
CREATED:20240703T184104Z
LAST-MODIFIED:20240801T032929Z
UID:5817-1722778200-1723390200@stacygabel.com
SUMMARY:🐧🎶 Miss Stacy's Kids' Shows at Musikfest - Bethlehem\, PA
DESCRIPTION:Bring the kids out for this fun music\, movement and stories event with Miss Stacy on the Familienplatz Stage \n4 shows – Sunday\, Aug 4 1:30 + 2:45\nSunday\, Aug 11 1:30 + 2:45 \nMore info and booking at Miss-Stacy.com \nDOWNLOAD THE MUSIKFEST APP today and Add MISS STACY to your schedule: https://www.musikfest.org/app/ \nGo to <Line up and Schedule>\nLook for Miss Stacy (for the kids)\nalso add Stacy Gabel Solo Acoustic and Stacy Gabel Band shows (fun for all ages) \n 
URL:https://stacygabel.com/event/%f0%9f%90%a7%f0%9f%8e%b6-miss-stacys-kids-shows-at-musikfest-bethlehem-pa/
LOCATION:Musikfest\, 101 Founders Way\, Bethlehem\, PA\, 18015\, United States
CATEGORIES:Performances
ATTACH;FMTTYPE=image/jpeg:https://stacygabel.com/wp-content/uploads/2024/07/Miss-Stacy-at-Musikfest-2024-for-website.jpg
END:VEVENT
BEGIN:VEVENT
DTSTART;TZID=UTC:20240811T133000
DTEND;TZID=UTC:20240812T153000
DTSTAMP:20260424T132744
CREATED:20240801T033315Z
LAST-MODIFIED:20240801T033315Z
UID:5906-1723383000-1723476600@stacygabel.com
SUMMARY:🐧🎶 Miss Stacy’s Kids’ Shows at Musikfest – Bethlehem\, PA
DESCRIPTION:Bring the kids out for this fun music\, movement and stories event with Miss Stacy on the Familienplatz Stage \n4 shows – Sunday\, Aug 4 1:30 + 2:45\nSunday\, Aug 11 1:30 + 2:45 \nMore info and booking at Miss-Stacy.com \nDOWNLOAD THE MUSIKFEST APP today and Add MISS STACY to your schedule: https://www.musikfest.org/app/ \nGo to <Line up and Schedule>\nLook for Miss Stacy (for the kids)\nalso add Stacy Gabel Solo Acoustic and Stacy Gabel Band shows (fun for all ages) \n 
URL:https://stacygabel.com/event/%f0%9f%90%a7%f0%9f%8e%b6-miss-stacys-kids-shows-at-musikfest-bethlehem-pa-2/
LOCATION:Musikfest\, 101 Founders Way\, Bethlehem\, PA\, 18015\, United States
CATEGORIES:Performances
ATTACH;FMTTYPE=image/jpeg:https://stacygabel.com/wp-content/uploads/2024/07/4-kid-shows.jpg
END:VEVENT
BEGIN:VEVENT
DTSTART;TZID=UTC:20240829T140000
DTEND;TZID=UTC:20240829T144000
DTSTAMP:20260424T132744
CREATED:20240721T235312Z
LAST-MODIFIED:20240721T235312Z
UID:5873-1724940000-1724942400@stacygabel.com
SUMMARY:🎶 8/29 Stacy Gabel Music (Miss Stacy's Kids' Pre-Show to Blippi) at the Great Allentown Fair - PA
DESCRIPTION:Bring the little ones out for Miss Stacy’s Kids’ Show at the Allentown Fair BEFORE BLIPPI takes the Mainstage! \nAstound Broadband Farmerama Theater\nThursday\, August 29\n2 PM – Miss Stacy’s Kid’s Show – “At the Zoo-oo-oo” with Music\, Movement and Stories for the younger audience \n \n 
URL:https://stacygabel.com/event/%f0%9f%8e%b6-8-29-stacy-gabel-music-miss-stacys-kids-pre-show-to-blippi-at-the-great-allentown-fair-pa/
LOCATION:The Great Allentown Fair\, 302 N 17th St.\, Allentown\, PA\, 18104\, United States
CATEGORIES:Performances
ATTACH;FMTTYPE=image/jpeg:https://stacygabel.com/wp-content/uploads/2024/07/Allentown-Fair-Miss-Stacys-Kids-Show.jpg
ORGANIZER;CN="Allentown Fair":MAILTO:info@allentownfair.com
END:VEVENT
END:VCALENDAR