BEGIN:VCALENDAR
VERSION:2.0
PRODID:-//Stacy Gabel Music - ECPv6.15.20//NONSGML v1.0//EN
CALSCALE:GREGORIAN
METHOD:PUBLISH
X-WR-CALNAME:Stacy Gabel Music
X-ORIGINAL-URL:https://stacygabel.com
X-WR-CALDESC:Events for Stacy Gabel Music
REFRESH-INTERVAL;VALUE=DURATION:PT1H
X-Robots-Tag:noindex
X-PUBLISHED-TTL:PT1H
BEGIN:VTIMEZONE
TZID:UTC
BEGIN:STANDARD
TZOFFSETFROM:+0000
TZOFFSETTO:+0000
TZNAME:UTC
DTSTART:20240101T000000
END:STANDARD
END:VTIMEZONE
BEGIN:VEVENT
DTSTART;TZID=UTC:20250524T110000
DTEND;TZID=UTC:20250524T120000
DTSTAMP:20260421T191330
CREATED:20250519T183901Z
LAST-MODIFIED:20250519T183901Z
UID:6150-1748084400-1748088000@stacygabel.com
SUMMARY:Stacy Gabel Music at Red Wine and Blue at the Lehigh Valley Zoo 5/24 11
DESCRIPTION:Enjoy live music at the Zoo for the 9th annual Red\, Wine & Blue Festival on Saturday\, May 24\, with sampling from 10AM – 3PM. Sample wine\, cider and more from premier wineries and distilleries around the Lehigh Valley \nI’ll be singing from 11-12p \nSampling at Red\, Wine\, and Blue is $22 for nonmembers\, and $6 for members. General admission is included with your sampling ticket\, and each participant (21+) will receive a complimentary LV Zoo wine glass with a paid Red\, Wine\, and Blue sampling ticket\, while supplies last. \nAll Red\, Wine\, and Blue sampling participants must be 21 or older and will need a valid photo ID and a Red\, Wine\, and Blue sampling ticket.
URL:https://stacygabel.com/event/stacy-gabel-music-at-red-wine-and-blue-at-the-lehigh-valley-zoo-5-24-11/
LOCATION:Lehigh Valley Zoo\, 5150 Game Preserve Rd\, Schnecksville\, PA\, 18078\, United States
CATEGORIES:Performances
ATTACH;FMTTYPE=image/jpeg:https://stacygabel.com/wp-content/uploads/2025/05/Red-Wine-Blue-website-and-FB.jpg
END:VEVENT
BEGIN:VEVENT
DTSTART;TZID=UTC:20250524T140000
DTEND;TZID=UTC:20250524T153000
DTSTAMP:20260421T191330
CREATED:20250320T063059Z
LAST-MODIFIED:20250320T063059Z
UID:6106-1748095200-1748100600@stacygabel.com
SUMMARY:Stacy Gabel Music at Mayfair Festival of the Arts for Memorial Day Weekend - Allentown\, PA
DESCRIPTION:Join me at Cedar Crest College for Mayfair on Memorial Day Weekend! \nI’ll be performing on Saturday\, May 24th at 2:00 \nHope to see you there! \n 
URL:https://stacygabel.com/event/stacy-gabel-music-at-mayfair-festival-of-the-arts-for-memorial-day-weekend-allentown-pa/
LOCATION:Mayfair Cedar Crest College\, 100 College Drive\, Allentown\, PA\, 18104\, United States
CATEGORIES:Performances
ATTACH;FMTTYPE=image/jpeg:https://stacygabel.com/wp-content/uploads/2025/03/Mayfair.jpg
END:VEVENT
END:VCALENDAR