BEGIN:VCALENDAR
VERSION:2.0
PRODID:-//Stacy Gabel Music - ECPv6.15.20//NONSGML v1.0//EN
CALSCALE:GREGORIAN
METHOD:PUBLISH
X-ORIGINAL-URL:https://stacygabel.com
X-WR-CALDESC:Events for Stacy Gabel Music
REFRESH-INTERVAL;VALUE=DURATION:PT1H
X-Robots-Tag:noindex
X-PUBLISHED-TTL:PT1H
BEGIN:VTIMEZONE
TZID:UTC
BEGIN:STANDARD
TZOFFSETFROM:+0000
TZOFFSETTO:+0000
TZNAME:UTC
DTSTART:20230101T000000
END:STANDARD
END:VTIMEZONE
BEGIN:VEVENT
DTSTART;TZID=UTC:20241101T070000
DTEND;TZID=UTC:20241101T220000
DTSTAMP:20260423T110445
CREATED:20241020T103758Z
LAST-MODIFIED:20241020T103758Z
UID:5979-1730444400-1730498400@stacygabel.com
SUMMARY:11/1 Stacy Gabel with SECRET CODA (Stacy & Phil Acoustic Duo Reunion Show) at the Alburtis Tavern - PA
DESCRIPTION:Come out for a special ONE TIME REUNION SHOW –  Secret Coda Acoustic Duo \nPhil Fritchey joins Stacy for an evening of tight harmonies and heartwarming songs that will bring you back to the good old days with songs by those artists who were the pioneers of country rock and folk music. \nEverly Brothers\nSimon and Garfunkel\nplus many many more of your favorite 60s and 70s artists
URL:https://stacygabel.com/event/11-1-stacy-gabel-secret-coda-acoustic-duo-alburtis-tavern-pa/
LOCATION:Alburtis Tavern\, 106 S Main St\, Alburtis\, PA\, 18011\, United States
CATEGORIES:Performances
ATTACH;FMTTYPE=image/jpeg:https://stacygabel.com/wp-content/uploads/2024/10/Secret-Coda-Reunion-Show.jpg
END:VEVENT
BEGIN:VEVENT
DTSTART;TZID=UTC:20241115T180000
DTEND;TZID=UTC:20241115T210000
DTSTAMP:20260423T110446
CREATED:20241020T101944Z
LAST-MODIFIED:20241020T102012Z
UID:5976-1731693600-1731704400@stacygabel.com
SUMMARY:11/15 Stacy Gabel Music at the Alburtis Tavern – Alburtis\, PA
DESCRIPTION:Join me for an evening of Live Music at this local Tavern & Lodge \nWarm ambiance and delectable American fare and AMAZING ENTERTAINMENT!! \nMusic from 6-9p
URL:https://stacygabel.com/event/11-15-stacy-gabel-music-at-the-alburtis-tavern-alburtis-pa/
LOCATION:Alburtis Tavern\, 106 S Main St\, Alburtis\, PA\, 18011\, United States
CATEGORIES:Performances
ATTACH;FMTTYPE=image/jpeg:https://stacygabel.com/wp-content/uploads/2024/08/Alburtis-Tavern-Aug-30.jpg
END:VEVENT
END:VCALENDAR